BEGIN:VCALENDAR
VERSION:2.0
PRODID:-//theater-trier.de//NONSGML kigkonsult.se iCalcreator 2.39.1//
CALSCALE:GREGORIAN
METHOD:PUBLISH
UID:e0c6ab53-25b2-4371-b32d-e3a656528d54
X-WR-CALNAME:
X-WR-TIMEZONE:Europe/Berlin
BEGIN:VEVENT
UID:_1353
DTSTAMP:20260421T104006Z
DESCRIPTION:
DTSTART;TZID=CEST:20260820T193000
DTEND;TZID=CEST:20260820T193000
LOCATION:
SUMMARY:Anatevka (Fiddler on the Roof)
END:VEVENT
END:VCALENDAR
