BEGIN:VCALENDAR
VERSION:2.0
PRODID:-//theater-trier.de//NONSGML kigkonsult.se iCalcreator 2.39.1//
CALSCALE:GREGORIAN
METHOD:PUBLISH
UID:2bec5a3b-49f6-4344-9b6c-b357ebe691e7
X-WR-CALNAME:
X-WR-TIMEZONE:Europe/Berlin
BEGIN:VEVENT
UID:_1416
DTSTAMP:20260423T122130Z
DESCRIPTION:
DTSTART;TZID=CEST:20260827T193000
DTEND;TZID=CEST:20260827T193000
LOCATION:
SUMMARY:Anatevka (Fiddler on the Roof)
END:VEVENT
END:VCALENDAR
